BEGIN:VCALENDAR
VERSION:2.0
PRODID:-//wp-events-plugin.com//7.2.3.1//EN
TZID:Europe/Madrid
X-WR-TIMEZONE:Europe/Madrid
BEGIN:VEVENT
UID:1@amrfvtraining.eu
DTSTART;TZID=Europe/Madrid;VALUE=DATE:20231130
DTEND;TZID=Europe/Madrid;VALUE=DATE:20231201
DTSTAMP:20231122T110600Z
URL:https://www.amrfvtraining.eu/events/slovakia-late-february-2024/
SUMMARY:Slovakia | Late February 2024
DESCRIPTION:Antimicrobial resistance hands-on training for farmers
 and veterinarians in Slovakia\n&nbsp\;\n\nWhere: Venue to be
 confirmed\n\nWhen: Tuesday\, 27 February from 15:00 to 19:00 and
 Wednesday\, 28 February from 9:00 to 13:00\n\n&nbsp\;\n\nThe training
 will:\n\n 	 inform farmers and veterinarians about the implications of
 the Regulations (EU) 2019/4 on medicated feed and 2019/6 on
 veterinary medicinal products in their daily practice in the farm.\n
 	facilitate the transition towards a reduced use of antimicrobials
 by informing farmers and veterinarians about measures that could prevent
 infection occurrence.\n 	encourage sharing good practices that inform
 farmers and veterinarians about possible approaches towards a reduced use
 of antimicrobials in everyday practice.\n\nProgramme: Under
 construction\n\nSpeakers: Under construction
END:VEVENT
BEGIN:VTIMEZONE
TZID:Europe/Madrid
X-LIC-LOCATION:Europe/Madrid
BEGIN:STANDARD
DTSTART:20231029T020000
TZOFFSETFROM:+0200
TZOFFSETTO:+0100
TZNAME:CET
END:STANDARD
END:VTIMEZONE
END:VCALENDAR